BEGIN:VCALENDAR
VERSION:2.0
PRODID:-//San Pedro Today - ECPv6.15.20//NONSGML v1.0//EN
CALSCALE:GREGORIAN
METHOD:PUBLISH
X-WR-CALNAME:San Pedro Today
X-ORIGINAL-URL:https://sanpedrotoday.com
X-WR-CALDESC:Events for San Pedro Today
REFRESH-INTERVAL;VALUE=DURATION:PT1H
X-Robots-Tag:noindex
X-PUBLISHED-TTL:PT1H
BEGIN:VTIMEZONE
TZID:America/Los_Angeles
BEGIN:DAYLIGHT
TZOFFSETFROM:-0800
TZOFFSETTO:-0700
TZNAME:PDT
DTSTART:20180311T100000
END:DAYLIGHT
BEGIN:STANDARD
TZOFFSETFROM:-0700
TZOFFSETTO:-0800
TZNAME:PST
DTSTART:20181104T090000
END:STANDARD
BEGIN:DAYLIGHT
TZOFFSETFROM:-0800
TZOFFSETTO:-0700
TZNAME:PDT
DTSTART:20190310T100000
END:DAYLIGHT
BEGIN:STANDARD
TZOFFSETFROM:-0700
TZOFFSETTO:-0800
TZNAME:PST
DTSTART:20191103T090000
END:STANDARD
BEGIN:DAYLIGHT
TZOFFSETFROM:-0800
TZOFFSETTO:-0700
TZNAME:PDT
DTSTART:20200308T100000
END:DAYLIGHT
BEGIN:STANDARD
TZOFFSETFROM:-0700
TZOFFSETTO:-0800
TZNAME:PST
DTSTART:20201101T090000
END:STANDARD
END:VTIMEZONE
BEGIN:VEVENT
DTSTART;TZID=America/Los_Angeles:20190928T140000
DTEND;TZID=America/Los_Angeles:20190928T160000
DTSTAMP:20260425T074748
CREATED:20190821T193337Z
LAST-MODIFIED:20190821T193337Z
UID:5139-1569679200-1569686400@sanpedrotoday.com
SUMMARY:Get to Know the LA County Assessor's Office
DESCRIPTION:What does the LA County Assessor’s Office do? The League of Women Voters of Palos Verdes Peninsula/San Pedro invites all to attend an unbiased presentation designed to educate and inform voters on the duties of the LA County Assessor’s Office. For more information\, contact Mary Ellen Barnes at (310) 833-8083\, mebarnes@aol.com.
URL:https://sanpedrotoday.com/event/get-to-know-the-la-county-assessors-office/
LOCATION:San Pedro Library\, 931 S. Gaffey St.\, San Pedro\, CA\, 90733\, United States
END:VEVENT
END:VCALENDAR