BEGIN:VCALENDAR
VERSION:2.0
PRODID:-//San Pedro Today - ECPv6.15.20//NONSGML v1.0//EN
CALSCALE:GREGORIAN
METHOD:PUBLISH
X-ORIGINAL-URL:https://sanpedrotoday.com
X-WR-CALDESC:Events for San Pedro Today
REFRESH-INTERVAL;VALUE=DURATION:PT1H
X-Robots-Tag:noindex
X-PUBLISHED-TTL:PT1H
BEGIN:VTIMEZONE
TZID:America/Los_Angeles
BEGIN:DAYLIGHT
TZOFFSETFROM:-0800
TZOFFSETTO:-0700
TZNAME:PDT
DTSTART:20210314T100000
END:DAYLIGHT
BEGIN:STANDARD
TZOFFSETFROM:-0700
TZOFFSETTO:-0800
TZNAME:PST
DTSTART:20211107T090000
END:STANDARD
BEGIN:DAYLIGHT
TZOFFSETFROM:-0800
TZOFFSETTO:-0700
TZNAME:PDT
DTSTART:20220313T100000
END:DAYLIGHT
BEGIN:STANDARD
TZOFFSETFROM:-0700
TZOFFSETTO:-0800
TZNAME:PST
DTSTART:20221106T090000
END:STANDARD
BEGIN:DAYLIGHT
TZOFFSETFROM:-0800
TZOFFSETTO:-0700
TZNAME:PDT
DTSTART:20230312T100000
END:DAYLIGHT
BEGIN:STANDARD
TZOFFSETFROM:-0700
TZOFFSETTO:-0800
TZNAME:PST
DTSTART:20231105T090000
END:STANDARD
END:VTIMEZONE
BEGIN:VEVENT
DTSTART;TZID=America/Los_Angeles:20221203T160000
DTEND;TZID=America/Los_Angeles:20221203T200000
DTSTAMP:20260425T135643
CREATED:20221203T204518Z
LAST-MODIFIED:20221203T204518Z
UID:10001689-1670083200-1670097600@sanpedrotoday.com
SUMMARY:Port of Los Angeles Holidays by the Sea\, Happy Holiday Harbor Afloat Boat Parade\, & Town Square Tree Lighting
DESCRIPTION:Enjoy the Town Square Tree Lighting at 5p (in front of the Los Angeles Maritime Museum) and views of the Happy Holiday Afloat Boat Parade from the new Town Square and Waterfront Promenade! The festivities will include live entertainment\, tall ship light display\, crafts\, games\, and Timmy the Duck\, plus a toy drive (bring an unwrapped toy to donate to local children). Dress warm and bring your chair and blankets. For more info\, visit portoflosangeles.org/community/events.
URL:https://sanpedrotoday.com/event/port-of-los-angeles-holidays-by-the-sea-happy-holiday-harbor-afloat-boat-parade-town-square-tree-lighting/
LOCATION:San Pedro Town Square\, Berth 84\, San Pedro\, CA\, 90732\, United States
END:VEVENT
END:VCALENDAR