BEGIN:VCALENDAR
VERSION:2.0
PRODID:-//San Pedro Today - ECPv6.15.20//NONSGML v1.0//EN
CALSCALE:GREGORIAN
METHOD:PUBLISH
X-ORIGINAL-URL:https://sanpedrotoday.com
X-WR-CALDESC:Events for San Pedro Today
REFRESH-INTERVAL;VALUE=DURATION:PT1H
X-Robots-Tag:noindex
X-PUBLISHED-TTL:PT1H
BEGIN:VTIMEZONE
TZID:America/Los_Angeles
BEGIN:DAYLIGHT
TZOFFSETFROM:-0800
TZOFFSETTO:-0700
TZNAME:PDT
DTSTART:20180311T100000
END:DAYLIGHT
BEGIN:STANDARD
TZOFFSETFROM:-0700
TZOFFSETTO:-0800
TZNAME:PST
DTSTART:20181104T090000
END:STANDARD
BEGIN:DAYLIGHT
TZOFFSETFROM:-0800
TZOFFSETTO:-0700
TZNAME:PDT
DTSTART:20190310T100000
END:DAYLIGHT
BEGIN:STANDARD
TZOFFSETFROM:-0700
TZOFFSETTO:-0800
TZNAME:PST
DTSTART:20191103T090000
END:STANDARD
BEGIN:DAYLIGHT
TZOFFSETFROM:-0800
TZOFFSETTO:-0700
TZNAME:PDT
DTSTART:20200308T100000
END:DAYLIGHT
BEGIN:STANDARD
TZOFFSETFROM:-0700
TZOFFSETTO:-0800
TZNAME:PST
DTSTART:20201101T090000
END:STANDARD
BEGIN:DAYLIGHT
TZOFFSETFROM:-0800
TZOFFSETTO:-0700
TZNAME:PDT
DTSTART:20210314T100000
END:DAYLIGHT
BEGIN:STANDARD
TZOFFSETFROM:-0700
TZOFFSETTO:-0800
TZNAME:PST
DTSTART:20211107T090000
END:STANDARD
END:VTIMEZONE
BEGIN:VEVENT
DTSTART;TZID=America/Los_Angeles:20200413T180000
DTEND;TZID=America/Los_Angeles:20200413T180000
DTSTAMP:20260424T025028
CREATED:20200305T224129Z
LAST-MODIFIED:20200305T224129Z
UID:10001331-1586800800-1586800800@sanpedrotoday.com
SUMMARY:Northwest San Pedro Neighborhood Council Monthly Board & Stakeholder Meeting
DESCRIPTION:For more info\, visit nwsanpedro.org.
URL:https://sanpedrotoday.com/event/northwest-san-pedro-neighborhood-council-monthly-board-stakeholder-meeting-4/
LOCATION:Peck Park Community Building\, 560 N. Western Ave.\, San Pedro\, CA\, 90733\, United States
END:VEVENT
BEGIN:VEVENT
DTSTART;TZID=America/Los_Angeles:20200309T180000
DTEND;TZID=America/Los_Angeles:20200309T180000
DTSTAMP:20260424T025028
CREATED:20200225T204752Z
LAST-MODIFIED:20200225T204752Z
UID:10001321-1583776800-1583776800@sanpedrotoday.com
SUMMARY:Northwest San Pedro Neighborhood Council Monthly Board & Stakeholder Meeting
DESCRIPTION:For more info\, visit nwsanpedro.org.
URL:https://sanpedrotoday.com/event/northwest-san-pedro-neighborhood-council-monthly-board-stakeholder-meeting-3/
LOCATION:Peck Park Community Building\, 560 N. Western Ave.\, San Pedro\, CA\, 90733\, United States
END:VEVENT
BEGIN:VEVENT
DTSTART;TZID=America/Los_Angeles:20200210T180000
DTEND;TZID=America/Los_Angeles:20200210T200000
DTSTAMP:20260424T025028
CREATED:20200130T091416Z
LAST-MODIFIED:20200130T091416Z
UID:10001090-1581357600-1581364800@sanpedrotoday.com
SUMMARY:Northwest San Pedro Neighborhood Council Monthly Board & Stakeholder Meeting
DESCRIPTION:Northwest San Pedro Neighborhood Council Monthly Board & Stakeholder Meeting at Peck Park Community Auditorium (560 N. Western Ave.)\, 6p. For more info\, visit nwsanpedro.org.
URL:https://sanpedrotoday.com/event/northwest-san-pedro-neighborhood-council-monthly-board-stakeholder-meeting-2/
LOCATION:Peck Park Community Building\, 560 N. Western Ave.\, San Pedro\, CA\, 90733\, United States
END:VEVENT
BEGIN:VEVENT
DTSTART;TZID=America/Los_Angeles:20191209T180000
DTEND;TZID=America/Los_Angeles:20191209T210000
DTSTAMP:20260424T025028
CREATED:20190806T182146Z
LAST-MODIFIED:20190806T182146Z
UID:10000974-1575914400-1575925200@sanpedrotoday.com
SUMMARY:Northwest San Pedro Neighborhood Council Board Meeting
DESCRIPTION:
URL:https://sanpedrotoday.com/event/northwest-san-pedro-neighborhood-council-board-meeting-5/
LOCATION:Peck Park Community Building\, 560 N. Western Ave.\, San Pedro\, CA\, 90733\, United States
END:VEVENT
BEGIN:VEVENT
DTSTART;TZID=America/Los_Angeles:20191111T180000
DTEND;TZID=America/Los_Angeles:20191111T210000
DTSTAMP:20260424T025028
CREATED:20190806T182110Z
LAST-MODIFIED:20190806T182110Z
UID:10001113-1573495200-1573506000@sanpedrotoday.com
SUMMARY:Northwest San Pedro Neighborhood Council Board Meeting
DESCRIPTION:
URL:https://sanpedrotoday.com/event/northwest-san-pedro-neighborhood-council-board-meeting-4/
LOCATION:Peck Park Community Building\, 560 N. Western Ave.\, San Pedro\, CA\, 90733\, United States
END:VEVENT
BEGIN:VEVENT
DTSTART;TZID=America/Los_Angeles:20191014T180000
DTEND;TZID=America/Los_Angeles:20191014T210000
DTSTAMP:20260424T025028
CREATED:20190806T182016Z
LAST-MODIFIED:20190806T182016Z
UID:10001112-1571076000-1571086800@sanpedrotoday.com
SUMMARY:Northwest San Pedro Neighborhood Council Board Meeting
DESCRIPTION:
URL:https://sanpedrotoday.com/event/northwest-san-pedro-neighborhood-council-board-meeting-3/
LOCATION:Peck Park Community Building\, 560 N. Western Ave.\, San Pedro\, CA\, 90733\, United States
END:VEVENT
BEGIN:VEVENT
DTSTART;TZID=America/Los_Angeles:20190909T180000
DTEND;TZID=America/Los_Angeles:20190909T210000
DTSTAMP:20260424T025028
CREATED:20190806T181040Z
LAST-MODIFIED:20190806T181040Z
UID:10001103-1568052000-1568062800@sanpedrotoday.com
SUMMARY:Northwest San Pedro Neighborhood Council Board Meeting
DESCRIPTION:
URL:https://sanpedrotoday.com/event/northwest-san-pedro-neighborhood-council-board-meeting-2/
LOCATION:Peck Park Community Building\, 560 N. Western Ave.\, San Pedro\, CA\, 90733\, United States
END:VEVENT
BEGIN:VEVENT
DTSTART;TZID=America/Los_Angeles:20190812T180000
DTEND;TZID=America/Los_Angeles:20190812T210000
DTSTAMP:20260424T025028
CREATED:20190717T204956Z
LAST-MODIFIED:20190717T204956Z
UID:10001093-1565632800-1565643600@sanpedrotoday.com
SUMMARY:Northwest San Pedro Neighborhood Council Board Meeting
DESCRIPTION:
URL:https://sanpedrotoday.com/event/northwest-san-pedro-neighborhood-council-board-meeting/
LOCATION:Peck Park Community Building\, 560 N. Western Ave.\, San Pedro\, CA\, 90733\, United States
END:VEVENT
BEGIN:VEVENT
DTSTART;TZID=America/Los_Angeles:20190114T180000
DTEND;TZID=America/Los_Angeles:20190114T180000
DTSTAMP:20260424T025028
CREATED:20190105T020146Z
LAST-MODIFIED:20190105T020146Z
UID:10000846-1547488800-1547488800@sanpedrotoday.com
SUMMARY:Northwest San Pedro Neighborhood Council Monthly Board & Stakeholder Meeting
DESCRIPTION:Northwest San Pedro Neighborhood Council Monthly Board & Stakeholder Meeting
URL:https://sanpedrotoday.com/event/northwest-san-pedro-neighborhood-council-monthly-board-stakeholder-meeting/
LOCATION:Peck Park Community Building\, 560 N. Western Ave.\, San Pedro\, CA\, 90733\, United States
END:VEVENT
END:VCALENDAR