BEGIN:VCALENDAR
VERSION:2.0
PRODID:-//San Pedro Today - ECPv6.15.20//NONSGML v1.0//EN
CALSCALE:GREGORIAN
METHOD:PUBLISH
X-WR-CALNAME:San Pedro Today
X-ORIGINAL-URL:https://sanpedrotoday.com
X-WR-CALDESC:Events for San Pedro Today
REFRESH-INTERVAL;VALUE=DURATION:PT1H
X-Robots-Tag:noindex
X-PUBLISHED-TTL:PT1H
BEGIN:VTIMEZONE
TZID:America/Los_Angeles
BEGIN:DAYLIGHT
TZOFFSETFROM:-0800
TZOFFSETTO:-0700
TZNAME:PDT
DTSTART:20180311T100000
END:DAYLIGHT
BEGIN:STANDARD
TZOFFSETFROM:-0700
TZOFFSETTO:-0800
TZNAME:PST
DTSTART:20181104T090000
END:STANDARD
BEGIN:DAYLIGHT
TZOFFSETFROM:-0800
TZOFFSETTO:-0700
TZNAME:PDT
DTSTART:20190310T100000
END:DAYLIGHT
BEGIN:STANDARD
TZOFFSETFROM:-0700
TZOFFSETTO:-0800
TZNAME:PST
DTSTART:20191103T090000
END:STANDARD
BEGIN:DAYLIGHT
TZOFFSETFROM:-0800
TZOFFSETTO:-0700
TZNAME:PDT
DTSTART:20200308T100000
END:DAYLIGHT
BEGIN:STANDARD
TZOFFSETFROM:-0700
TZOFFSETTO:-0800
TZNAME:PST
DTSTART:20201101T090000
END:STANDARD
END:VTIMEZONE
BEGIN:VEVENT
DTSTART;TZID=America/Los_Angeles:20190303T130000
DTEND;TZID=America/Los_Angeles:20190303T160000
DTSTAMP:20260421T084624
CREATED:20190303T221114Z
LAST-MODIFIED:20190303T221114Z
UID:10000947-1551618000-1551628800@sanpedrotoday.com
SUMMARY:San Pedro’s 131st Birthday Weekend
DESCRIPTION:On Sunday\, 1 – 4p\, visit the Muller House Museum and Gift Shop (1542 S. Beacon St.)\, for fun\, games\, history\, and birthday cupcakes! BYO San Pedro memorabilia to share. For more info\, visit sanpedrobayhistoricalsociety.org.
URL:https://sanpedrotoday.com/event/san-pedros-131st-birthday-weekend-2/
LOCATION:Muller House Museum\, 1542 S. Beacon St.\, San Pedro\, CA\, 90731\, United States
END:VEVENT
END:VCALENDAR