BEGIN:VCALENDAR
VERSION:2.0
PRODID:-//San Pedro Today - ECPv6.15.20//NONSGML v1.0//EN
CALSCALE:GREGORIAN
METHOD:PUBLISH
X-ORIGINAL-URL:https://sanpedrotoday.com
X-WR-CALDESC:Events for San Pedro Today
REFRESH-INTERVAL;VALUE=DURATION:PT1H
X-Robots-Tag:noindex
X-PUBLISHED-TTL:PT1H
BEGIN:VTIMEZONE
TZID:America/Los_Angeles
BEGIN:DAYLIGHT
TZOFFSETFROM:-0800
TZOFFSETTO:-0700
TZNAME:PDT
DTSTART:20180311T100000
END:DAYLIGHT
BEGIN:STANDARD
TZOFFSETFROM:-0700
TZOFFSETTO:-0800
TZNAME:PST
DTSTART:20181104T090000
END:STANDARD
BEGIN:DAYLIGHT
TZOFFSETFROM:-0800
TZOFFSETTO:-0700
TZNAME:PDT
DTSTART:20190310T100000
END:DAYLIGHT
BEGIN:STANDARD
TZOFFSETFROM:-0700
TZOFFSETTO:-0800
TZNAME:PST
DTSTART:20191103T090000
END:STANDARD
BEGIN:DAYLIGHT
TZOFFSETFROM:-0800
TZOFFSETTO:-0700
TZNAME:PDT
DTSTART:20200308T100000
END:DAYLIGHT
BEGIN:STANDARD
TZOFFSETFROM:-0700
TZOFFSETTO:-0800
TZNAME:PST
DTSTART:20201101T090000
END:STANDARD
BEGIN:DAYLIGHT
TZOFFSETFROM:-0800
TZOFFSETTO:-0700
TZNAME:PDT
DTSTART:20210314T100000
END:DAYLIGHT
BEGIN:STANDARD
TZOFFSETFROM:-0700
TZOFFSETTO:-0800
TZNAME:PST
DTSTART:20211107T090000
END:STANDARD
BEGIN:DAYLIGHT
TZOFFSETFROM:-0800
TZOFFSETTO:-0700
TZNAME:PDT
DTSTART:20220313T100000
END:DAYLIGHT
BEGIN:STANDARD
TZOFFSETFROM:-0700
TZOFFSETTO:-0800
TZNAME:PST
DTSTART:20221106T090000
END:STANDARD
BEGIN:DAYLIGHT
TZOFFSETFROM:-0800
TZOFFSETTO:-0700
TZNAME:PDT
DTSTART:20230312T100000
END:DAYLIGHT
BEGIN:STANDARD
TZOFFSETFROM:-0700
TZOFFSETTO:-0800
TZNAME:PST
DTSTART:20231105T090000
END:STANDARD
END:VTIMEZONE
BEGIN:VTIMEZONE
TZID:America/Denver
BEGIN:DAYLIGHT
TZOFFSETFROM:-0700
TZOFFSETTO:-0600
TZNAME:MDT
DTSTART:20210314T090000
END:DAYLIGHT
BEGIN:STANDARD
TZOFFSETFROM:-0600
TZOFFSETTO:-0700
TZNAME:MST
DTSTART:20211107T080000
END:STANDARD
BEGIN:DAYLIGHT
TZOFFSETFROM:-0700
TZOFFSETTO:-0600
TZNAME:MDT
DTSTART:20220313T090000
END:DAYLIGHT
BEGIN:STANDARD
TZOFFSETFROM:-0600
TZOFFSETTO:-0700
TZNAME:MST
DTSTART:20221106T080000
END:STANDARD
BEGIN:DAYLIGHT
TZOFFSETFROM:-0700
TZOFFSETTO:-0600
TZNAME:MDT
DTSTART:20230312T090000
END:DAYLIGHT
BEGIN:STANDARD
TZOFFSETFROM:-0600
TZOFFSETTO:-0700
TZNAME:MST
DTSTART:20231105T080000
END:STANDARD
END:VTIMEZONE
BEGIN:VTIMEZONE
TZID:UTC
BEGIN:STANDARD
TZOFFSETFROM:+0000
TZOFFSETTO:+0000
TZNAME:UTC
DTSTART:20210101T000000
END:STANDARD
END:VTIMEZONE
BEGIN:VEVENT
DTSTART;TZID=America/Los_Angeles:20221201T180000
DTEND;TZID=America/Los_Angeles:20221201T180000
DTSTAMP:20260422T150237
CREATED:20221014T224222Z
LAST-MODIFIED:20221014T224222Z
UID:10001427-1669917600-1669917600@sanpedrotoday.com
SUMMARY:First Thursday
DESCRIPTION:The popular First Thursday ArtWalk is back in the historic core of Downtown San Pedro. The redesigned First Thursday will feature guided ArtWalk tours\, open galleries\, outdoor dining\, and live music on the corner of 6th and Mesa streets.
URL:https://sanpedrotoday.com/event/first-thursday-20/
LOCATION:Downtown San Pedro
END:VEVENT
BEGIN:VEVENT
DTSTART;TZID=America/Los_Angeles:20221103T180000
DTEND;TZID=America/Los_Angeles:20221103T180000
DTSTAMP:20260422T150237
CREATED:20221014T224158Z
LAST-MODIFIED:20221014T224158Z
UID:10001426-1667498400-1667498400@sanpedrotoday.com
SUMMARY:First Thursday's 25th Anniversary
DESCRIPTION:The popular First Thursday ArtWalk is back in the historic core of Downtown San Pedro. The redesigned First Thursday will feature guided ArtWalk tours\, open galleries\, outdoor dining\, and live music on the corner of 6th and Mesa streets.
URL:https://sanpedrotoday.com/event/first-thursday-19/
LOCATION:Downtown San Pedro
END:VEVENT
BEGIN:VEVENT
DTSTART;TZID=America/Los_Angeles:20221006T180000
DTEND;TZID=America/Los_Angeles:20221006T180000
DTSTAMP:20260422T150237
CREATED:20221014T224248Z
LAST-MODIFIED:20221014T224248Z
UID:10001430-1665079200-1665079200@sanpedrotoday.com
SUMMARY:First Thursday
DESCRIPTION:The popular First Thursday ArtWalk is back in the historic core of Downtown San Pedro. The redesigned First Thursday will feature guided ArtWalk tours\, open galleries\, outdoor dining\, and live music on the corner of 6th and Mesa streets.
URL:https://sanpedrotoday.com/event/first-thursday-21/
LOCATION:Downtown San Pedro
END:VEVENT
BEGIN:VEVENT
DTSTART;TZID=America/Los_Angeles:20220901T180000
DTEND;TZID=America/Los_Angeles:20220901T180000
DTSTAMP:20260422T150237
CREATED:20220901T195210Z
LAST-MODIFIED:20220901T195210Z
UID:10001367-1662055200-1662055200@sanpedrotoday.com
SUMMARY:First Thursday
DESCRIPTION:The popular First Thursday ArtWalk is back in the historic core of Downtown San Pedro. The redesigned First Thursday will feature guided ArtWalk tours\, open galleries\, outdoor dining\, and live music on the corner of 6th and Mesa streets.
URL:https://sanpedrotoday.com/event/first-thursday-18/
LOCATION:Downtown San Pedro
END:VEVENT
BEGIN:VEVENT
DTSTART;TZID=America/Los_Angeles:20220707T180000
DTEND;TZID=America/Los_Angeles:20220707T180000
DTSTAMP:20260422T150237
CREATED:20220524T174035Z
LAST-MODIFIED:20220524T174035Z
UID:10001531-1657216800-1657216800@sanpedrotoday.com
SUMMARY:First Thursday
DESCRIPTION:The popular First Thursday ArtWalk is back in the historic core of Downtown San Pedro. The redesigned First Thursday will feature guided ArtWalk tours\, open galleries\, outdoor dining\, and live music on the corner of 6th and Mesa streets.
URL:https://sanpedrotoday.com/event/first-thursday-17/
LOCATION:Downtown San Pedro
END:VEVENT
BEGIN:VEVENT
DTSTART;TZID=America/Denver:20220618T130000
DTEND;TZID=America/Denver:20220618T210000
DTSTAMP:20260422T150237
CREATED:20220601T193110Z
LAST-MODIFIED:20220601T193110Z
UID:10001590-1655557200-1655586000@sanpedrotoday.com
SUMMARY:San Pedro Pride 2022
DESCRIPTION:Join San Pedro’s LGBTQ+ community and celebrate Pride! There will be musical entertainment\, food trucks\, a kids’ crafts area\, and more. The Jewels of Long Beach will host a drag show\, and the Mariachi Arcoiris de Los Angeles\, the first ever LGBTQ+ mariachi band\, will perform. For more information\, visit bridgecitiesalliance.com.
URL:https://sanpedrotoday.com/event/san-pedro-pride-2022/
LOCATION:Downtown San Pedro
END:VEVENT
BEGIN:VEVENT
DTSTART;TZID=UTC:20220609T180000
DTEND;TZID=UTC:20220609T180000
DTSTAMP:20260422T150237
CREATED:20220329T194844Z
LAST-MODIFIED:20220329T194844Z
UID:10001443-1654797600-1654797600@sanpedrotoday.com
SUMMARY:First Thursday
DESCRIPTION:Head to the historic core of downtown San Pedro for the popular First Thursday ArtWalk. The redesigned First Thursday will feature guided ArtWalk tours\, open galleries\, outdoor dining\, and live music on the corner of 6th and Mesa streets.
URL:https://sanpedrotoday.com/event/first-thursday-15/
LOCATION:Downtown San Pedro
END:VEVENT
BEGIN:VEVENT
DTSTART;TZID=America/Los_Angeles:20220602T180000
DTEND;TZID=America/Los_Angeles:20220602T180000
DTSTAMP:20260422T150237
CREATED:20220524T171537Z
LAST-MODIFIED:20220524T171537Z
UID:10001526-1654192800-1654192800@sanpedrotoday.com
SUMMARY:First Thursday
DESCRIPTION:The popular First Thursday ArtWalk is back in the historic core of downtown San Pedro. The redesigned First Thursday will feature guided ArtWalk tours\, open galleries\, outdoor dining\, and live music on the corner of 6th and Mesa streets.
URL:https://sanpedrotoday.com/event/first-thursday-16/
LOCATION:Downtown San Pedro
END:VEVENT
BEGIN:VEVENT
DTSTART;TZID=UTC:20220505T180000
DTEND;TZID=UTC:20220505T180000
DTSTAMP:20260422T150237
CREATED:20220329T170307Z
LAST-MODIFIED:20220329T170307Z
UID:10001412-1651773600-1651773600@sanpedrotoday.com
SUMMARY:First Thursday
DESCRIPTION:The popular First Thursday ArtWalk is back in the historic core of downtown San Pedro. The redesigned First Thursday will feature guided ArtWalk tours\, open galleries\, outdoor dining\, and live music on the corner of 6th and Mesa streets.
URL:https://sanpedrotoday.com/event/first-thursday-14/
LOCATION:Downtown San Pedro
END:VEVENT
BEGIN:VEVENT
DTSTART;TZID=UTC:20220407T180000
DTEND;TZID=UTC:20220407T230000
DTSTAMP:20260422T150237
CREATED:20220322T184903Z
LAST-MODIFIED:20220322T184903Z
UID:10001394-1649354400-1649372400@sanpedrotoday.com
SUMMARY:First Thursday
DESCRIPTION:The popular First Thursday ArtWalk is back at the historic core of Downtown San Pedro. The event will feature guided art walk tours\, open galleries\, outdoor dining\, and live music from Johnny Martinez Quartet and others at the corner of 6th and Mesa streets.
URL:https://sanpedrotoday.com/event/first-thursday-13/
LOCATION:Downtown San Pedro
END:VEVENT
BEGIN:VEVENT
DTSTART;TZID=UTC:20220303T180000
DTEND;TZID=UTC:20220303T233000
DTSTAMP:20260422T150237
CREATED:20220322T173958Z
LAST-MODIFIED:20220322T173958Z
UID:10001379-1646330400-1646350200@sanpedrotoday.com
SUMMARY:First Thursday
DESCRIPTION:The popular First Thursday ArtWalk is back in the historic core of Downtown San Pedro. The redesigned First Thursday will feature guided ArtWalk tours\, open galleries\, outdoor dining\, and live music on the corner of 6th and Mesa streets.
URL:https://sanpedrotoday.com/event/first-thursday-12/
LOCATION:Downtown San Pedro
END:VEVENT
BEGIN:VEVENT
DTSTART;TZID=America/Los_Angeles:20200508T090000
DTEND;TZID=America/Los_Angeles:20200508T140000
DTSTAMP:20260422T150237
CREATED:20200310T195735Z
LAST-MODIFIED:20200310T195735Z
UID:10001137-1588928400-1588946400@sanpedrotoday.com
SUMMARY:San Pedro Certified Farmers Market
DESCRIPTION:Every Friday at the Historic Downtown San Pedro Farmers Market is unique at this event with local musicians. Shop for Certified California-grown\, farm-fresh fruits\, vegetables\, plants and flowers. Enjoy fresh\, hot fare from one of many vendors\, with gourmet specialty foods and treats\, and unique arts & crafts vendors. Located on 6th Street between Pacific Avenue and Mesa Street.
URL:https://sanpedrotoday.com/event/san-pedro-certified-farmers-market-9/
LOCATION:Downtown San Pedro
END:VEVENT
BEGIN:VEVENT
DTSTART;TZID=America/Los_Angeles:20200501T090000
DTEND;TZID=America/Los_Angeles:20200501T140000
DTSTAMP:20260422T150237
CREATED:20200310T195703Z
LAST-MODIFIED:20200310T195703Z
UID:10001134-1588323600-1588341600@sanpedrotoday.com
SUMMARY:San Pedro Certified Farmers Market
DESCRIPTION:Every Friday at the Historic Downtown San Pedro Farmers Market is unique at this event with local musicians. Shop for Certified California-grown\, farm-fresh fruits\, vegetables\, plants and flowers. Enjoy fresh\, hot fare from one of many vendors\, with gourmet specialty foods and treats\, and unique arts & crafts vendors. Located on 6th Street between Pacific Avenue and Mesa Street.
URL:https://sanpedrotoday.com/event/san-pedro-certified-farmers-market-8/
LOCATION:Downtown San Pedro
END:VEVENT
BEGIN:VEVENT
DTSTART;TZID=America/Los_Angeles:20200424T090000
DTEND;TZID=America/Los_Angeles:20200424T140000
DTSTAMP:20260422T150237
CREATED:20200310T195615Z
LAST-MODIFIED:20200310T195615Z
UID:10001357-1587718800-1587736800@sanpedrotoday.com
SUMMARY:San Pedro Certified Farmers Market
DESCRIPTION:Every Friday at the Historic Downtown San Pedro Farmers Market is unique at this event with local musicians. Shop for Certified California-grown\, farm-fresh fruits\, vegetables\, plants and flowers. Enjoy fresh\, hot fare from one of many vendors\, with gourmet specialty foods and treats\, and unique arts & crafts vendors. Located on 6th Street between Pacific Avenue and Mesa Street.
URL:https://sanpedrotoday.com/event/san-pedro-certified-farmers-market-7/
LOCATION:Downtown San Pedro
END:VEVENT
BEGIN:VEVENT
DTSTART;TZID=America/Los_Angeles:20200417T090000
DTEND;TZID=America/Los_Angeles:20200417T140000
DTSTAMP:20260422T150237
CREATED:20200310T195559Z
LAST-MODIFIED:20200310T195559Z
UID:10001354-1587114000-1587132000@sanpedrotoday.com
SUMMARY:San Pedro Certified Farmers Market
DESCRIPTION:Every Friday at the Historic Downtown San Pedro Farmers Market is unique at this event with local musicians. Shop for Certified California-grown\, farm-fresh fruits\, vegetables\, plants and flowers. Enjoy fresh\, hot fare from one of many vendors\, with gourmet specialty foods and treats\, and unique arts & crafts vendors. Located on 6th Street between Pacific Avenue and Mesa Street.
URL:https://sanpedrotoday.com/event/san-pedro-certified-farmers-market-6/
LOCATION:Downtown San Pedro
END:VEVENT
BEGIN:VEVENT
DTSTART;TZID=America/Los_Angeles:20200410T090000
DTEND;TZID=America/Los_Angeles:20200410T140000
DTSTAMP:20260422T150237
CREATED:20200310T195546Z
LAST-MODIFIED:20200310T195546Z
UID:10001353-1586509200-1586527200@sanpedrotoday.com
SUMMARY:San Pedro Certified Farmers Market
DESCRIPTION:Every Friday at the Historic Downtown San Pedro Farmers Market is unique at this event with local musicians. Shop for Certified California-grown\, farm-fresh fruits\, vegetables\, plants and flowers. Enjoy fresh\, hot fare from one of many vendors\, with gourmet specialty foods and treats\, and unique arts & crafts vendors. Located on 6th Street between Pacific Avenue and Mesa Street.
URL:https://sanpedrotoday.com/event/san-pedro-certified-farmers-market-5/
LOCATION:Downtown San Pedro
END:VEVENT
BEGIN:VEVENT
DTSTART;TZID=America/Los_Angeles:20200403T090000
DTEND;TZID=America/Los_Angeles:20200403T140000
DTSTAMP:20260422T150237
CREATED:20200310T195534Z
LAST-MODIFIED:20200310T195534Z
UID:10001350-1585904400-1585922400@sanpedrotoday.com
SUMMARY:San Pedro Certified Farmers Market
DESCRIPTION:Every Friday at the Historic Downtown San Pedro Farmers Market is unique at this event with local musicians. Shop for Certified California-grown\, farm-fresh fruits\, vegetables\, plants and flowers. Enjoy fresh\, hot fare from one of many vendors\, with gourmet specialty foods and treats\, and unique arts & crafts vendors. Located on 6th Street between Pacific Avenue and Mesa Street.
URL:https://sanpedrotoday.com/event/san-pedro-certified-farmers-market-4/
LOCATION:Downtown San Pedro
END:VEVENT
BEGIN:VEVENT
DTSTART;TZID=America/Los_Angeles:20200402T180000
DTEND;TZID=America/Los_Angeles:20200402T210000
DTSTAMP:20260422T150237
CREATED:20200305T225131Z
LAST-MODIFIED:20200305T225131Z
UID:10001341-1585850400-1585861200@sanpedrotoday.com
SUMMARY:First Thursday Artwalk
DESCRIPTION:Live music\, food trucks\, art gallery displays\, and food and drink specials from local bars and restaurants. Experience the most anticipated monthly event in San Pedro.
URL:https://sanpedrotoday.com/event/first-thursday-artwalk-4/
LOCATION:Downtown San Pedro
END:VEVENT
BEGIN:VEVENT
DTSTART;TZID=America/Los_Angeles:20200327T090000
DTEND;TZID=America/Los_Angeles:20200327T140000
DTSTAMP:20260422T150237
CREATED:20200310T195510Z
LAST-MODIFIED:20200310T195510Z
UID:10001349-1585299600-1585317600@sanpedrotoday.com
SUMMARY:San Pedro Certified Farmers Market
DESCRIPTION:Every Friday at the Historic Downtown San Pedro Farmers Market is unique at this event with local musicians. Shop for Certified California-grown\, farm-fresh fruits\, vegetables\, plants and flowers. Enjoy fresh\, hot fare from one of many vendors\, with gourmet specialty foods and treats\, and unique arts & crafts vendors. Located on 6th Street between Pacific Avenue and Mesa Street.
URL:https://sanpedrotoday.com/event/san-pedro-certified-farmers-market-3/
LOCATION:Downtown San Pedro
END:VEVENT
BEGIN:VEVENT
DTSTART;TZID=America/Los_Angeles:20200320T090000
DTEND;TZID=America/Los_Angeles:20200320T140000
DTSTAMP:20260422T150237
CREATED:20200310T195456Z
LAST-MODIFIED:20200310T195456Z
UID:10001346-1584694800-1584712800@sanpedrotoday.com
SUMMARY:San Pedro Certified Farmers Market
DESCRIPTION:Every Friday at the Historic Downtown San Pedro Farmers Market is unique at this event with local musicians. Shop for Certified California-grown\, farm-fresh fruits\, vegetables\, plants and flowers. Enjoy fresh\, hot fare from one of many vendors\, with gourmet specialty foods and treats\, and unique arts & crafts vendors. Located on 6th Street between Pacific Avenue and Mesa Street.
URL:https://sanpedrotoday.com/event/san-pedro-certified-farmers-market-2/
LOCATION:Downtown San Pedro
END:VEVENT
BEGIN:VEVENT
DTSTART;TZID=America/Los_Angeles:20200313T090000
DTEND;TZID=America/Los_Angeles:20200313T140000
DTSTAMP:20260422T150237
CREATED:20200310T195428Z
LAST-MODIFIED:20200310T195428Z
UID:10001345-1584090000-1584108000@sanpedrotoday.com
SUMMARY:San Pedro Certified Farmers Market
DESCRIPTION:Every Friday at the Historic Downtown San Pedro Farmers Market is unique at this event with local musicians. Shop for Certified California-grown\, farm-fresh fruits\, vegetables\, plants and flowers. Enjoy fresh\, hot fare from one of many vendors\, with gourmet specialty foods and treats\, and unique arts & crafts vendors. Located on 6th Street between Pacific Avenue and Mesa Street.
URL:https://sanpedrotoday.com/event/san-pedro-certified-farmers-market/
LOCATION:Downtown San Pedro
END:VEVENT
BEGIN:VEVENT
DTSTART;TZID=America/Los_Angeles:20200305T180000
DTEND;TZID=America/Los_Angeles:20200305T210000
DTSTAMP:20260422T150237
CREATED:20200225T203552Z
LAST-MODIFIED:20200225T203552Z
UID:10001318-1583431200-1583442000@sanpedrotoday.com
SUMMARY:First Thursday Artwalk
DESCRIPTION:Live music\, food trucks\, art gallery displays\, and food and drink specials from local bars and restaurants. Experience the most anticipated monthly event in San Pedro.
URL:https://sanpedrotoday.com/event/first-thursday-artwalk-3/
LOCATION:Downtown San Pedro
END:VEVENT
BEGIN:VEVENT
DTSTART;TZID=America/Los_Angeles:20200206T180000
DTEND;TZID=America/Los_Angeles:20200206T210000
DTSTAMP:20260422T150237
CREATED:20200130T085121Z
LAST-MODIFIED:20200130T085121Z
UID:10001084-1581012000-1581022800@sanpedrotoday.com
SUMMARY:First Thursday Artwalk
DESCRIPTION:Live music\, food trucks\, art gallery displays\, and food and drink specials from local bars and restaurants. Experience the most anticipated monthly event in San Pedro.
URL:https://sanpedrotoday.com/event/first-thursday-artwalk-2/
LOCATION:Downtown San Pedro
END:VEVENT
BEGIN:VEVENT
DTSTART;TZID=America/Los_Angeles:20200102T180000
DTEND;TZID=America/Los_Angeles:20200102T210000
DTSTAMP:20260422T150237
CREATED:20200109T225012Z
LAST-MODIFIED:20200109T225012Z
UID:10001284-1577988000-1577998800@sanpedrotoday.com
SUMMARY:First Thursday Artwalk
DESCRIPTION:Live music\, food trucks\, art gallery displays\, and food and drink specials from local bars and restaurants. Experience the most anticipated monthly event in San Pedro.
URL:https://sanpedrotoday.com/event/first-thursday-artwalk/
LOCATION:Downtown San Pedro
END:VEVENT
BEGIN:VEVENT
DTSTART;TZID=America/Los_Angeles:20191205T180000
DTEND;TZID=America/Los_Angeles:20191205T210000
DTSTAMP:20260422T150237
CREATED:20190306T002135Z
LAST-MODIFIED:20190306T002135Z
UID:10000980-1575568800-1575579600@sanpedrotoday.com
SUMMARY:First Thursday Artwalk
DESCRIPTION:Live music\, food trucks\, art gallery displays\, and food and drink specials from local bars and restaurants. Experience the most anticipated monthly event in San Pedro.
URL:https://sanpedrotoday.com/event/first-thursday-11/
LOCATION:Downtown San Pedro
END:VEVENT
BEGIN:VEVENT
DTSTART;TZID=America/Los_Angeles:20191107T180000
DTEND;TZID=America/Los_Angeles:20191107T210000
DTSTAMP:20260422T150237
CREATED:20190306T002108Z
LAST-MODIFIED:20190306T002108Z
UID:10000978-1573149600-1573160400@sanpedrotoday.com
SUMMARY:First Thursday Artwalk
DESCRIPTION:Live music\, food trucks\, art gallery displays\, and food and drink specials from local bars and restaurants. Experience the most anticipated monthly event in San Pedro.
URL:https://sanpedrotoday.com/event/first-thursday-10/
LOCATION:Downtown San Pedro
END:VEVENT
BEGIN:VEVENT
DTSTART;TZID=America/Los_Angeles:20191003T180000
DTEND;TZID=America/Los_Angeles:20191003T210000
DTSTAMP:20260422T150237
CREATED:20190306T002025Z
LAST-MODIFIED:20190306T002025Z
UID:10000976-1570125600-1570136400@sanpedrotoday.com
SUMMARY:First Thursday
DESCRIPTION:Live music\, food trucks\, art gallery displays\, and food and drink specials from local bars and restaurants. Experience the most anticipated monthly event in San Pedro.
URL:https://sanpedrotoday.com/event/first-thursday-9/
LOCATION:Downtown San Pedro
END:VEVENT
BEGIN:VEVENT
DTSTART;TZID=America/Los_Angeles:20190905T180000
DTEND;TZID=America/Los_Angeles:20190905T210000
DTSTAMP:20260422T150237
CREATED:20190306T001957Z
LAST-MODIFIED:20190306T001957Z
UID:10000975-1567706400-1567717200@sanpedrotoday.com
SUMMARY:First Thursday
DESCRIPTION:Live music\, food trucks\, art gallery displays\, and food and drink specials from local bars and restaurants. Experience the most anticipated monthly event in San Pedro.
URL:https://sanpedrotoday.com/event/first-thursday-8/
LOCATION:Downtown San Pedro
END:VEVENT
BEGIN:VEVENT
DTSTART;TZID=America/Los_Angeles:20190801T180000
DTEND;TZID=America/Los_Angeles:20190801T210000
DTSTAMP:20260422T150237
CREATED:20190306T001930Z
LAST-MODIFIED:20190306T001930Z
UID:10000973-1564682400-1564693200@sanpedrotoday.com
SUMMARY:First Thursday
DESCRIPTION:Live music\, food trucks\, art gallery displays\, and food and drink specials from local bars and restaurants. Experience the most anticipated monthly event in San Pedro.
URL:https://sanpedrotoday.com/event/first-thursday-7/
LOCATION:Downtown San Pedro
END:VEVENT
BEGIN:VEVENT
DTSTART;TZID=America/Los_Angeles:20190606T180000
DTEND;TZID=America/Los_Angeles:20190606T210000
DTSTAMP:20260422T150237
CREATED:20190306T001658Z
LAST-MODIFIED:20190306T001658Z
UID:10000972-1559844000-1559854800@sanpedrotoday.com
SUMMARY:First Thursday
DESCRIPTION:Live music\, food trucks\, art gallery displays\, and food and drink specials from local bars and restaurants. Experience the most anticipated monthly event in San Pedro.
URL:https://sanpedrotoday.com/event/first-thursday-6/
LOCATION:Downtown San Pedro
END:VEVENT
END:VCALENDAR