BEGIN:VCALENDAR
VERSION:2.0
PRODID:-//San Pedro Today - ECPv6.15.20//NONSGML v1.0//EN
CALSCALE:GREGORIAN
METHOD:PUBLISH
X-WR-CALNAME:San Pedro Today
X-ORIGINAL-URL:https://sanpedrotoday.com
X-WR-CALDESC:Events for San Pedro Today
REFRESH-INTERVAL;VALUE=DURATION:PT1H
X-Robots-Tag:noindex
X-PUBLISHED-TTL:PT1H
BEGIN:VTIMEZONE
TZID:America/Los_Angeles
BEGIN:DAYLIGHT
TZOFFSETFROM:-0800
TZOFFSETTO:-0700
TZNAME:PDT
DTSTART:20180311T100000
END:DAYLIGHT
BEGIN:STANDARD
TZOFFSETFROM:-0700
TZOFFSETTO:-0800
TZNAME:PST
DTSTART:20181104T090000
END:STANDARD
BEGIN:DAYLIGHT
TZOFFSETFROM:-0800
TZOFFSETTO:-0700
TZNAME:PDT
DTSTART:20190310T100000
END:DAYLIGHT
BEGIN:STANDARD
TZOFFSETFROM:-0700
TZOFFSETTO:-0800
TZNAME:PST
DTSTART:20191103T090000
END:STANDARD
BEGIN:DAYLIGHT
TZOFFSETFROM:-0800
TZOFFSETTO:-0700
TZNAME:PDT
DTSTART:20200308T100000
END:DAYLIGHT
BEGIN:STANDARD
TZOFFSETFROM:-0700
TZOFFSETTO:-0800
TZNAME:PST
DTSTART:20201101T090000
END:STANDARD
BEGIN:DAYLIGHT
TZOFFSETFROM:-0800
TZOFFSETTO:-0700
TZNAME:PDT
DTSTART:20210314T100000
END:DAYLIGHT
BEGIN:STANDARD
TZOFFSETFROM:-0700
TZOFFSETTO:-0800
TZNAME:PST
DTSTART:20211107T090000
END:STANDARD
BEGIN:DAYLIGHT
TZOFFSETFROM:-0800
TZOFFSETTO:-0700
TZNAME:PDT
DTSTART:20220313T100000
END:DAYLIGHT
BEGIN:STANDARD
TZOFFSETFROM:-0700
TZOFFSETTO:-0800
TZNAME:PST
DTSTART:20221106T090000
END:STANDARD
BEGIN:DAYLIGHT
TZOFFSETFROM:-0800
TZOFFSETTO:-0700
TZNAME:PDT
DTSTART:20230312T100000
END:DAYLIGHT
BEGIN:STANDARD
TZOFFSETFROM:-0700
TZOFFSETTO:-0800
TZNAME:PST
DTSTART:20231105T090000
END:STANDARD
BEGIN:DAYLIGHT
TZOFFSETFROM:-0800
TZOFFSETTO:-0700
TZNAME:PDT
DTSTART:20240310T100000
END:DAYLIGHT
BEGIN:STANDARD
TZOFFSETFROM:-0700
TZOFFSETTO:-0800
TZNAME:PST
DTSTART:20241103T090000
END:STANDARD
BEGIN:DAYLIGHT
TZOFFSETFROM:-0800
TZOFFSETTO:-0700
TZNAME:PDT
DTSTART:20250309T100000
END:DAYLIGHT
BEGIN:STANDARD
TZOFFSETFROM:-0700
TZOFFSETTO:-0800
TZNAME:PST
DTSTART:20251102T090000
END:STANDARD
BEGIN:DAYLIGHT
TZOFFSETFROM:-0800
TZOFFSETTO:-0700
TZNAME:PDT
DTSTART:20260308T100000
END:DAYLIGHT
BEGIN:STANDARD
TZOFFSETFROM:-0700
TZOFFSETTO:-0800
TZNAME:PST
DTSTART:20261101T090000
END:STANDARD
BEGIN:DAYLIGHT
TZOFFSETFROM:-0800
TZOFFSETTO:-0700
TZNAME:PDT
DTSTART:20270314T100000
END:DAYLIGHT
BEGIN:STANDARD
TZOFFSETFROM:-0700
TZOFFSETTO:-0800
TZNAME:PST
DTSTART:20271107T090000
END:STANDARD
END:VTIMEZONE
BEGIN:VTIMEZONE
TZID:UTC
BEGIN:STANDARD
TZOFFSETFROM:+0000
TZOFFSETTO:+0000
TZNAME:UTC
DTSTART:20210101T000000
END:STANDARD
END:VTIMEZONE
BEGIN:VEVENT
DTSTART;TZID=America/Los_Angeles:20260411T170000
DTEND;TZID=America/Los_Angeles:20260411T220000
DTSTAMP:20260422T104410
CREATED:20260109T181042Z
LAST-MODIFIED:20260110T010936Z
UID:10006101-1775926800-1775944800@sanpedrotoday.com
SUMMARY:San Pedro Football Championship Gathering & Fundraiser 2026
DESCRIPTION:San Pedro Football Championship Gathering & Fundraiser 2026 \nSaturday\, April 11\, 2026 – 5p-10p\nCalling all San Pedro Pirates football legends — the championship era is coming back together. We’re reuniting the 1992\, ’93\, ’95\, ’96\, and ’97 championship teams for one unforgettable night. Come celebrate the history\, brotherhood\, and legacy of San Pedro Football — and help fund the future by supporting the next generation of Pirate athletes. For more info\, contact Coach Dom Costa on Instagram: @coachdomcosta anytime.
URL:https://sanpedrotoday.com/event/san-pedro-football-championship-gathering-fundraiser-2026/
LOCATION:Dalmatian-American Club\, 1639 S. Palos Verdes St.\, San Pedro\, CA\, 90733\, United States
ATTACH;FMTTYPE=image/jpeg:https://sanpedrotoday.com/wp-content/uploads/2026/01/pirate-reunion.jpeg
END:VEVENT
BEGIN:VEVENT
DTSTART;TZID=UTC:20220508T100000
DTEND;TZID=UTC:20220508T130000
DTSTAMP:20260422T104410
CREATED:20220419T184504Z
LAST-MODIFIED:20220419T184504Z
UID:10001469-1652004000-1652014800@sanpedrotoday.com
SUMMARY:Dalmatian-American Club Mother's Day Brunch
DESCRIPTION:Save the date! The Dalmatian-American Club of San Pedro’s popular Mother’s Day Brunch is back. The buffet-style meal will include eggs Benedict\, custom omelettes\, salmon\, mimosas\, and much more. Adults: $35. Children aged 4-11: $10. RSVP in advance. For tickets and more information\, visit facebook.com/DalmatianAmerican.
URL:https://sanpedrotoday.com/event/dalmatian-american-club-mothers-day-brunch/
LOCATION:Dalmatian-American Club\, 1639 S. Palos Verdes St.\, San Pedro\, CA\, 90733\, United States
END:VEVENT
BEGIN:VEVENT
DTSTART;TZID=UTC:20220331T170000
DTEND;TZID=UTC:20220331T200000
DTSTAMP:20260422T104410
CREATED:20220331T173751Z
LAST-MODIFIED:20220331T173751Z
UID:10001448-1648746000-1648756800@sanpedrotoday.com
SUMMARY:Happy Hour at the Dalmatian American Club
DESCRIPTION:Head over to the Dalmatian American Club for their weekly happy hour. Grab a cocktail and relax on the patio while enjoying music from local band “Bluezilla.” Food served from 5p-7p. Admission: $5 (does not include food or drink). For more info\, visit the Dalmatian American Club’s Facebook page at https://www.facebook.com/DalmatianAmerican\, or call the club at (310) 831-2629. Membership not required for entry.
URL:https://sanpedrotoday.com/event/happy-hour-at-the-dalmatian-american-club/
LOCATION:Dalmatian-American Club\, 1639 S. Palos Verdes St.\, San Pedro\, CA\, 90733\, United States
END:VEVENT
BEGIN:VEVENT
DTSTART;TZID=America/Los_Angeles:20191005T170000
DTEND;TZID=America/Los_Angeles:20191005T230000
DTSTAMP:20260422T104410
CREATED:20190821T193655Z
LAST-MODIFIED:20190821T193655Z
UID:10001129-1570294800-1570316400@sanpedrotoday.com
SUMMARY:SPHS Class of 1969 50th Reunion
DESCRIPTION:Join the S’69 Athenians and “Friends” for a night of reminiscing and celebration! Tickets are $75 per person (payment due by Sept. 20). For more information\, contact Jerryne (Gregg) Soto spnanaj@aol.com (310) 422-9414 or Patti Folson-Medina patti.folsom.medina@gmail.com (310) 521-0431.
URL:https://sanpedrotoday.com/event/sphs-class-of-1969-50th-reunion/
LOCATION:Dalmatian-American Club\, 1639 S. Palos Verdes St.\, San Pedro\, CA\, 90733\, United States
END:VEVENT
BEGIN:VEVENT
DTSTART;TZID=America/Los_Angeles:20190202T180000
DTEND;TZID=America/Los_Angeles:20190202T230000
DTSTAMP:20260422T104410
CREATED:20190209T222032Z
LAST-MODIFIED:20190209T222032Z
UID:10000930-1549130400-1549148400@sanpedrotoday.com
SUMMARY:2nd Annual Adult Prom
DESCRIPTION:From the hand-jive to the electric slide\, join Maria’s Closet for their annual fundraising event\, featuring dinner\, dancing\, and silent auction. All proceeds benefit Maria’s Closet’s mission of dressing over 200 girls within the South Bay and Greater Los Angeles communities for Prom 2019. For tickets and more info\, visit mariasclosets.org.
URL:https://sanpedrotoday.com/event/2nd-annual-adult-prom/
LOCATION:Dalmatian-American Club\, 1639 S. Palos Verdes St.\, San Pedro\, CA\, 90733\, United States
END:VEVENT
END:VCALENDAR