BEGIN:VCALENDAR
VERSION:2.0
PRODID:-//San Pedro Today - ECPv6.15.20//NONSGML v1.0//EN
CALSCALE:GREGORIAN
METHOD:PUBLISH
X-WR-CALNAME:San Pedro Today
X-ORIGINAL-URL:https://sanpedrotoday.com
X-WR-CALDESC:Events for San Pedro Today
REFRESH-INTERVAL;VALUE=DURATION:PT1H
X-Robots-Tag:noindex
X-PUBLISHED-TTL:PT1H
BEGIN:VTIMEZONE
TZID:America/Los_Angeles
BEGIN:DAYLIGHT
TZOFFSETFROM:-0800
TZOFFSETTO:-0700
TZNAME:PDT
DTSTART:20210314T100000
END:DAYLIGHT
BEGIN:STANDARD
TZOFFSETFROM:-0700
TZOFFSETTO:-0800
TZNAME:PST
DTSTART:20211107T090000
END:STANDARD
BEGIN:DAYLIGHT
TZOFFSETFROM:-0800
TZOFFSETTO:-0700
TZNAME:PDT
DTSTART:20220313T100000
END:DAYLIGHT
BEGIN:STANDARD
TZOFFSETFROM:-0700
TZOFFSETTO:-0800
TZNAME:PST
DTSTART:20221106T090000
END:STANDARD
BEGIN:DAYLIGHT
TZOFFSETFROM:-0800
TZOFFSETTO:-0700
TZNAME:PDT
DTSTART:20230312T100000
END:DAYLIGHT
BEGIN:STANDARD
TZOFFSETFROM:-0700
TZOFFSETTO:-0800
TZNAME:PST
DTSTART:20231105T090000
END:STANDARD
END:VTIMEZONE
BEGIN:VEVENT
DTSTART;TZID=America/Los_Angeles:20221218T140000
DTEND;TZID=America/Los_Angeles:20221218T140000
DTSTAMP:20260422T123915
CREATED:20221203T213707Z
LAST-MODIFIED:20221203T213707Z
UID:10001708-1671372000-1671372000@sanpedrotoday.com
SUMMARY:Little Fish Theatre Presents: A Moment
DESCRIPTION:Two strangers\, both concealing a painful secret\, share a brief encounter on Christmas Eve that changes the course of both of their lives in this original musical written and directed by award-winning company member Kathryn Farren. Show times are as follows: December 14\, 15\, 16\, 17\, 22\, and 23 at 8p; Sunday\, December 18 at 2p. Tickets $20-30. For more info\, call (310) 512-6030 or visit littlefishtheatre.org.
URL:https://sanpedrotoday.com/event/little-fish-theatre-presents-a-moment-5/
LOCATION:Little Fish Theatre\, 777 S. Centre Street\, San Pedro\, CA\, 90731\, United States
END:VEVENT
END:VCALENDAR